BEGIN:VCALENDAR
VERSION:2.0
PRODID:-//Talentboost FSEJ - ECPv6.15.15//NONSGML v1.0//EN
CALSCALE:GREGORIAN
METHOD:PUBLISH
X-WR-CALNAME:Talentboost FSEJ
X-ORIGINAL-URL:https://blogs2.abo.fi/talentboost-fse
X-WR-CALDESC:Events for Talentboost FSEJ
REFRESH-INTERVAL;VALUE=DURATION:PT1H
X-Robots-Tag:noindex
X-PUBLISHED-TTL:PT1H
BEGIN:VTIMEZONE
TZID:UTC
BEGIN:STANDARD
TZOFFSETFROM:+0000
TZOFFSETTO:+0000
TZNAME:UTC
DTSTART:20230101T000000
END:STANDARD
END:VTIMEZONE
BEGIN:VEVENT
DTSTART;TZID=UTC:20240126T130000
DTEND;TZID=UTC:20240126T143000
DTSTAMP:20260420T003120
CREATED:20240118T103703Z
LAST-MODIFIED:20240118T103703Z
UID:1607-1706274000-1706279400@blogs2.abo.fi
SUMMARY:Finnish Workplace: Culture and Integration- Expert Talk and Q&A with Mark Hayton
DESCRIPTION:We are super excited to invite you to our Expert Talk and Q&A with Mark Hayton\, the Head of Culture and Leadership at Nokia. \nMark is an expert in Human Resources and Learning & Development\, with several years of experience leading people\, projects\, and programs. In this session\, tailored for international students from any academic backgrounds\, he will share his insights on the Finnish workplace\, leadership\, HR\, and talent acquisition.
URL:https://blogs2.abo.fi/talentboost-fse/event/finnish-workplace-culture-and-integration-expert-talk-and-qa-with-mark-hayton/
LOCATION:ASA B329 (Mary P. Follett)
ORGANIZER;CN="Talent Boost FSEJ":MAILTO:talentboost-fsej@abo.fi
END:VEVENT
END:VCALENDAR