BEGIN:VCALENDAR
VERSION:2.0
PRODID:-//Talentboost FSEJ - ECPv6.15.15//NONSGML v1.0//EN
CALSCALE:GREGORIAN
METHOD:PUBLISH
X-WR-CALNAME:Talentboost FSEJ
X-ORIGINAL-URL:https://blogs2.abo.fi/talentboost-fse
X-WR-CALDESC:Events for Talentboost FSEJ
REFRESH-INTERVAL;VALUE=DURATION:PT1H
X-Robots-Tag:noindex
X-PUBLISHED-TTL:PT1H
BEGIN:VTIMEZONE
TZID:UTC
BEGIN:STANDARD
TZOFFSETFROM:+0000
TZOFFSETTO:+0000
TZNAME:UTC
DTSTART:20210101T000000
END:STANDARD
END:VTIMEZONE
BEGIN:VTIMEZONE
TZID:Europe/Helsinki
BEGIN:DAYLIGHT
TZOFFSETFROM:+0200
TZOFFSETTO:+0300
TZNAME:EEST
DTSTART:20200329T010000
END:DAYLIGHT
BEGIN:STANDARD
TZOFFSETFROM:+0300
TZOFFSETTO:+0200
TZNAME:EET
DTSTART:20201025T010000
END:STANDARD
BEGIN:DAYLIGHT
TZOFFSETFROM:+0200
TZOFFSETTO:+0300
TZNAME:EEST
DTSTART:20210328T010000
END:DAYLIGHT
BEGIN:STANDARD
TZOFFSETFROM:+0300
TZOFFSETTO:+0200
TZNAME:EET
DTSTART:20211031T010000
END:STANDARD
BEGIN:DAYLIGHT
TZOFFSETFROM:+0200
TZOFFSETTO:+0300
TZNAME:EEST
DTSTART:20220327T010000
END:DAYLIGHT
BEGIN:STANDARD
TZOFFSETFROM:+0300
TZOFFSETTO:+0200
TZNAME:EET
DTSTART:20221030T010000
END:STANDARD
END:VTIMEZONE
BEGIN:VEVENT
DTSTART;VALUE=DATE:20220529
DTEND;VALUE=DATE:20220604
DTSTAMP:20260420T065443
CREATED:20220412T144202Z
LAST-MODIFIED:20220503T100439Z
UID:883-1653782400-1654300799@blogs2.abo.fi
SUMMARY:Talent Boostcamp 2022
DESCRIPTION:Talent Boostcamp at GammelGård (Nauvo) (Registration is required)
URL:https://blogs2.abo.fi/talentboost-fse/event/talent-boostcamp/
LOCATION:GammelGård (Nauvo)\, Norrstrandintie 217\, Parainen\, 21660\, Finland
ORGANIZER;CN="Faculty of Social Sciences%2C Business and Economic%2C %C3%85bo Akademi University":MAILTO:shahrokh.nikou@abo.fi
END:VEVENT
BEGIN:VEVENT
DTSTART;TZID=Europe/Helsinki:20211215T090000
DTEND;TZID=Europe/Helsinki:20211215T120000
DTSTAMP:20260420T065443
CREATED:20211125T144939Z
LAST-MODIFIED:20211125T144939Z
UID:158-1639558800-1639569600@blogs2.abo.fi
SUMMARY:Talent Boost at FSE 2021
DESCRIPTION: 
URL:https://blogs2.abo.fi/talentboost-fse/event/talent-boost-at-fse/
LOCATION:Arken Armfelt (A102)\, Fabriksgatan 2\, Åbo\, ÅBo\, 20500\, Finland
ORGANIZER;CN="Faculty of Social Sciences%2C Business and Economic%2C %C3%85bo Akademi University":MAILTO:shahrokh.nikou@abo.fi
END:VEVENT
END:VCALENDAR