BEGIN:VCALENDAR
VERSION:2.0
PRODID:-//Talentboost FSEJ - ECPv6.15.15//NONSGML v1.0//EN
CALSCALE:GREGORIAN
METHOD:PUBLISH
X-ORIGINAL-URL:https://blogs2.abo.fi/talentboost-fse
X-WR-CALDESC:Events for Talentboost FSEJ
REFRESH-INTERVAL;VALUE=DURATION:PT1H
X-Robots-Tag:noindex
X-PUBLISHED-TTL:PT1H
BEGIN:VTIMEZONE
TZID:Europe/Helsinki
BEGIN:DAYLIGHT
TZOFFSETFROM:+0200
TZOFFSETTO:+0300
TZNAME:EEST
DTSTART:20210328T010000
END:DAYLIGHT
BEGIN:STANDARD
TZOFFSETFROM:+0300
TZOFFSETTO:+0200
TZNAME:EET
DTSTART:20211031T010000
END:STANDARD
BEGIN:DAYLIGHT
TZOFFSETFROM:+0200
TZOFFSETTO:+0300
TZNAME:EEST
DTSTART:20220327T010000
END:DAYLIGHT
BEGIN:STANDARD
TZOFFSETFROM:+0300
TZOFFSETTO:+0200
TZNAME:EET
DTSTART:20221030T010000
END:STANDARD
BEGIN:DAYLIGHT
TZOFFSETFROM:+0200
TZOFFSETTO:+0300
TZNAME:EEST
DTSTART:20230326T010000
END:DAYLIGHT
BEGIN:STANDARD
TZOFFSETFROM:+0300
TZOFFSETTO:+0200
TZNAME:EET
DTSTART:20231029T010000
END:STANDARD
END:VTIMEZONE
BEGIN:VEVENT
DTSTART;TZID=Europe/Helsinki:20221118T090000
DTEND;TZID=Europe/Helsinki:20221118T160000
DTSTAMP:20260420T051907
CREATED:20221018T171332Z
LAST-MODIFIED:20221027T175039Z
UID:1385-1668762000-1668787200@blogs2.abo.fi
SUMMARY:Communication and Presentation Skills
DESCRIPTION:By: Pekka Kanerva \nTopics covered:\n▪️ Public speaking and presentation skills\n▪️ Pitching skills and using simple speech structures\n▪️ Job interview skill \nOn November 18th\n9 AM to 4 PM with Lunch Break (Lunch in ASA cafeteria is included.)\nASA Building Room: A208 \nRegister at: https://bit.ly/3To1dAP
URL:https://blogs2.abo.fi/talentboost-fse/event/presentation-skill-workshop/
END:VEVENT
END:VCALENDAR